BEGIN:VCALENDAR
VERSION:2.0
PRODID:-//wp-events-plugin.com//7.2.3.1//EN
TZID:Europe/Amsterdam
X-WR-TIMEZONE:Europe/Amsterdam
BEGIN:VEVENT
UID:348@8rhk.nl
DTSTART;TZID=Europe/Amsterdam:20240923T193000
DTEND;TZID=Europe/Amsterdam:20240923T223000
DTSTAMP:20231010T100426Z
URL:https://8rhk.nl/evenement/achterhoek-raad-8-copy-copy-copy-copy-copy/
SUMMARY:Achterhoek Raad
DESCRIPTION:\n\n
ATTACH;FMTTYPE=image/jpeg:https://8rhk.nl/wp-content/uploads/2022/05/achte
 rhoek-raad-3-dec-2018-2.jpg
CATEGORIES:Bestuur (Board, Raad, AB/DB)
END:VEVENT
BEGIN:VTIMEZONE
TZID:Europe/Amsterdam
X-LIC-LOCATION:Europe/Amsterdam
BEGIN:DAYLIGHT
DTSTART:20240331T030000
TZOFFSETFROM:+0100
TZOFFSETTO:+0200
TZNAME:CEST
END:DAYLIGHT
END:VTIMEZONE
END:VCALENDAR