BEGIN:VCALENDAR
VERSION:2.0
PRODID:-//wp-events-plugin.com//7.2.3.1//EN
TZID:Europe/Amsterdam
X-WR-TIMEZONE:Europe/Amsterdam
BEGIN:VEVENT
UID:709@8rhk.nl
DTSTART;TZID=Europe/Amsterdam:20260302T093000
DTEND;TZID=Europe/Amsterdam:20260302T130000
DTSTAMP:20260116T085144Z
URL:https://8rhk.nl/evenement/achterhoekse-opening-toeristisch-seizoen/
SUMMARY:Achterhoekse Opening Toeristisch Seizoen
DESCRIPTION: 
ATTACH;FMTTYPE=image/jpeg:https://8rhk.nl/wp-content/uploads/2026/01/Afbee
 lding-Spotler-banner.png
END:VEVENT
BEGIN:VTIMEZONE
TZID:Europe/Amsterdam
X-LIC-LOCATION:Europe/Amsterdam
BEGIN:STANDARD
DTSTART:20251026T020000
TZOFFSETFROM:+0200
TZOFFSETTO:+0100
TZNAME:CET
END:STANDARD
END:VTIMEZONE
END:VCALENDAR