BEGIN:VCALENDAR
VERSION:2.0
PRODID:-//wp-events-plugin.com//7.2.3.1//EN
TZID:Europe/Amsterdam
X-WR-TIMEZONE:Europe/Amsterdam
BEGIN:VEVENT
UID:419@8rhk.nl
DTSTART;TZID=Europe/Amsterdam:20240228T193000
DTEND;TZID=Europe/Amsterdam:20240228T213000
DTSTAMP:20240201T103601Z
URL:https://8rhk.nl/evenement/agro-innovatie-event-editie-stedendriehoek-e
 n-ijsselvallei/
SUMMARY:Agro Innovatie Event\, editie Stedendriehoek en IJsselvallei
DESCRIPTION:\nHet Agro Innovatie Event\, editie Stedendriehoek en IJsselval
 lei\, staat volledig in het teken van vernieuwingen op en rondom het boere
 nerf. Het inspelen op de uitdagingen van deze tijd vraagt om toekomstgeric
 ht ondernemerschap en dit is precies waar het Agro Innovatie Event om draa
 it. Het event\, waar ook veel ruimte is voor ontmoeting\, vindt plaats op 
 woensdagavond 28 februari in Twello.\n
ATTACH;FMTTYPE=image/jpeg:https://8rhk.nl/wp-content/uploads/2024/02/DIC_B
 anner-2024-Facebook.png
END:VEVENT
BEGIN:VTIMEZONE
TZID:Europe/Amsterdam
X-LIC-LOCATION:Europe/Amsterdam
BEGIN:STANDARD
DTSTART:20231029T020000
TZOFFSETFROM:+0200
TZOFFSETTO:+0100
TZNAME:CET
END:STANDARD
END:VTIMEZONE
END:VCALENDAR