BEGIN:VCALENDAR
VERSION:2.0
PRODID:-//wp-events-plugin.com//7.2.3.1//EN
TZID:Europe/Amsterdam
X-WR-TIMEZONE:Europe/Amsterdam
BEGIN:VEVENT
UID:329@8rhk.nl
DTSTART;TZID=Europe/Amsterdam:20240306T100000
DTEND;TZID=Europe/Amsterdam:20240306T113000
DTSTAMP:20231010T094247Z
URL:https://8rhk.nl/evenement/algemeen-bestuur-regio-achterhoek-16-copy-3/
SUMMARY:Algemeen bestuur Regio Achterhoek
DESCRIPTION:
CATEGORIES:Bestuur (Board, Raad, AB/DB)
END:VEVENT
BEGIN:VTIMEZONE
TZID:Europe/Amsterdam
X-LIC-LOCATION:Europe/Amsterdam
BEGIN:STANDARD
DTSTART:20231029T020000
TZOFFSETFROM:+0200
TZOFFSETTO:+0100
TZNAME:CET
END:STANDARD
END:VTIMEZONE
END:VCALENDAR