BEGIN:VCALENDAR
VERSION:2.0
PRODID:-//wp-events-plugin.com//7.2.3.1//EN
TZID:Europe/Amsterdam
X-WR-TIMEZONE:Europe/Amsterdam
BEGIN:VEVENT
UID:608@8rhk.nl
DTSTART;TZID=Europe/Amsterdam:20251002T133000
DTEND;TZID=Europe/Amsterdam:20251002T153000
DTSTAMP:20250722T131814Z
URL:https://8rhk.nl/evenement/bijeenkomst-gerda/
SUMMARY:Bijeenkomst GERDA (GEïntegreerde Regionale Data-infrastructuur Ach
 terhoek)
DESCRIPTION:\n\n
ATTACH;FMTTYPE=image/jpeg:https://8rhk.nl/wp-content/uploads/2025/07/gerda
 .jpg
END:VEVENT
BEGIN:VTIMEZONE
TZID:Europe/Amsterdam
X-LIC-LOCATION:Europe/Amsterdam
BEGIN:DAYLIGHT
DTSTART:20250330T030000
TZOFFSETFROM:+0100
TZOFFSETTO:+0200
TZNAME:CEST
END:DAYLIGHT
END:VTIMEZONE
END:VCALENDAR