BEGIN:VCALENDAR
VERSION:2.0
PRODID:-//wp-events-plugin.com//7.2.3.1//EN
TZID:Europe/Amsterdam
X-WR-TIMEZONE:Europe/Amsterdam
BEGIN:VEVENT
UID:415@8rhk.nl
DTSTART;TZID=Europe/Amsterdam:20240215T193000
DTEND;TZID=Europe/Amsterdam:20240215T220000
DTSTAMP:20240125T110246Z
URL:https://8rhk.nl/evenement/bijeenkomst-vk-oost-samen-sterk-met-gedepute
 erden-zoet-en-von-martels/
SUMMARY:Bijeenkomst VK-Oost ‘Samen sterk’ met gedeputeerden Zoet en Von
  Martels
DESCRIPTION:\n\n
ATTACH;FMTTYPE=image/jpeg:https://8rhk.nl/wp-content/uploads/2024/01/VK-Oo
 st-jan2024-scaled.jpg
END:VEVENT
BEGIN:VTIMEZONE
TZID:Europe/Amsterdam
X-LIC-LOCATION:Europe/Amsterdam
BEGIN:STANDARD
DTSTART:20231029T020000
TZOFFSETFROM:+0200
TZOFFSETTO:+0100
TZNAME:CET
END:STANDARD
END:VTIMEZONE
END:VCALENDAR