BEGIN:VCALENDAR
VERSION:2.0
PRODID:-//wp-events-plugin.com//7.2.3.1//EN
TZID:Europe/Amsterdam
X-WR-TIMEZONE:Europe/Amsterdam
BEGIN:VEVENT
UID:587@8rhk.nl
DTSTART;TZID=Europe/Amsterdam:20250213T200000
DTEND;TZID=Europe/Amsterdam:20250213T220000
DTSTAMP:20250128T132917Z
URL:https://8rhk.nl/evenement/bijeenkomst-vk-oost-zelf-kiezen-voor-sterker
 -rendement-en-kansen-in-de-keten/
SUMMARY:VK-Oost: Zelf kiezen voor sterker rendement en kansen
DESCRIPTION:\n\n
ATTACH;FMTTYPE=image/jpeg:https://8rhk.nl/wp-content/uploads/2025/01/Beeld
 -socials.jpg
END:VEVENT
BEGIN:VTIMEZONE
TZID:Europe/Amsterdam
X-LIC-LOCATION:Europe/Amsterdam
BEGIN:STANDARD
DTSTART:20241027T020000
TZOFFSETFROM:+0200
TZOFFSETTO:+0100
TZNAME:CET
END:STANDARD
END:VTIMEZONE
END:VCALENDAR