BEGIN:VCALENDAR
VERSION:2.0
PRODID:-//wp-events-plugin.com//7.2.3.1//EN
TZID:Europe/Amsterdam
X-WR-TIMEZONE:Europe/Amsterdam
BEGIN:VEVENT
UID:263@8rhk.nl
DTSTART;TZID=Europe/Amsterdam:20231012T093000
DTEND;TZID=Europe/Amsterdam:20231012T193000
DTSTAMP:20231003T083013Z
URL:https://8rhk.nl/evenement/conferentie-droogte-achterhoek-en-liemers/
SUMMARY:Conferentie Droogte Achterhoek en Liemers
DESCRIPTION:\n\n
ATTACH;FMTTYPE=image/jpeg:https://8rhk.nl/wp-content/uploads/2022/02/Bijla
 ge-bij-persbericht-bestuursovereenkomst-aanpak-droogte-Achterhoek-15-feb-2
 022-scaled.jpg
END:VEVENT
BEGIN:VTIMEZONE
TZID:Europe/Amsterdam
X-LIC-LOCATION:Europe/Amsterdam
BEGIN:DAYLIGHT
DTSTART:20230326T030000
TZOFFSETFROM:+0100
TZOFFSETTO:+0200
TZNAME:CEST
END:DAYLIGHT
END:VTIMEZONE
END:VCALENDAR