BEGIN:VCALENDAR
VERSION:2.0
PRODID:-//wp-events-plugin.com//7.2.3.1//EN
TZID:Europe/Amsterdam
X-WR-TIMEZONE:Europe/Amsterdam
BEGIN:VEVENT
UID:313@8rhk.nl
DTSTART;TZID=Europe/Amsterdam:20240221T093000
DTEND;TZID=Europe/Amsterdam:20240221T101500
DTSTAMP:20231010T092347Z
URL:https://8rhk.nl/evenement/dagelijks-bestuur-regio-achterhoek-21-copy/
SUMMARY:Dagelijks bestuur Regio Achterhoek
DESCRIPTION:
CATEGORIES:Bestuur (Board, Raad, AB/DB)
END:VEVENT
BEGIN:VTIMEZONE
TZID:Europe/Amsterdam
X-LIC-LOCATION:Europe/Amsterdam
BEGIN:STANDARD
DTSTART:20231029T020000
TZOFFSETFROM:+0200
TZOFFSETTO:+0100
TZNAME:CET
END:STANDARD
END:VTIMEZONE
END:VCALENDAR