BEGIN:VCALENDAR
VERSION:2.0
PRODID:-//wp-events-plugin.com//7.2.3.1//EN
TZID:Europe/Amsterdam
X-WR-TIMEZONE:Europe/Amsterdam
BEGIN:VEVENT
UID:296@8rhk.nl
DTSTART;TZID=Europe/Amsterdam:20231024T191500
DTEND;TZID=Europe/Amsterdam:20231024T220000
DTSTAMP:20231017T085223Z
URL:https://8rhk.nl/evenement/de-ondernemersprijs-achterhoek-2023/
SUMMARY:DE ONDERNEMERSPRIJS ACHTERHOEK 2023
DESCRIPTION:\n\n
ATTACH;FMTTYPE=image/jpeg:https://8rhk.nl/wp-content/uploads/2023/09/Onder
 nemersprjis-Achterhoek.png
END:VEVENT
BEGIN:VTIMEZONE
TZID:Europe/Amsterdam
X-LIC-LOCATION:Europe/Amsterdam
BEGIN:DAYLIGHT
DTSTART:20230326T030000
TZOFFSETFROM:+0100
TZOFFSETTO:+0200
TZNAME:CEST
END:DAYLIGHT
END:VTIMEZONE
END:VCALENDAR