BEGIN:VCALENDAR
VERSION:2.0
PRODID:-//wp-events-plugin.com//7.2.3.1//EN
TZID:Europe/Amsterdam
X-WR-TIMEZONE:Europe/Amsterdam
BEGIN:VEVENT
UID:708@8rhk.nl
DTSTART;TZID=Europe/Amsterdam:20260212T140000
DTEND;TZID=Europe/Amsterdam:20260212T180000
DTSTAMP:20260114T150225Z
URL:https://8rhk.nl/evenement/eerste-llo-festival-achterhoek/
SUMMARY:Eerste LLO Festival Achterhoek
DESCRIPTION:\n\n
ATTACH;FMTTYPE=image/jpeg:https://8rhk.nl/wp-content/uploads/2026/01/Scher
 mafbeelding-2026-01-14-141649.png
END:VEVENT
BEGIN:VTIMEZONE
TZID:Europe/Amsterdam
X-LIC-LOCATION:Europe/Amsterdam
BEGIN:STANDARD
DTSTART:20251026T020000
TZOFFSETFROM:+0200
TZOFFSETTO:+0100
TZNAME:CET
END:STANDARD
END:VTIMEZONE
END:VCALENDAR