BEGIN:VCALENDAR
VERSION:2.0
PRODID:-//wp-events-plugin.com//7.2.3.1//EN
TZID:Europe/Amsterdam
X-WR-TIMEZONE:Europe/Amsterdam
BEGIN:VEVENT
UID:451@8rhk.nl
DTSTART;TZID=Europe/Amsterdam;VALUE=DATE:20250131
DTEND;TZID=Europe/Amsterdam;VALUE=DATE:20250201
DTSTAMP:20240821T122255Z
URL:https://8rhk.nl/evenement/first-lego-league-2/
SUMMARY:First Lego League
DESCRIPTION:\n\n
ATTACH;FMTTYPE=image/jpeg:https://8rhk.nl/wp-content/uploads/2024/03/henk-
 van-raaij-lego-league-civon-20240202_0029_53504616961_o.jpg
CATEGORIES:Onderwijs &amp; Arbeidsmarkt
END:VEVENT
BEGIN:VTIMEZONE
TZID:Europe/Amsterdam
X-LIC-LOCATION:Europe/Amsterdam
BEGIN:STANDARD
DTSTART:20241027T020000
TZOFFSETFROM:+0200
TZOFFSETTO:+0100
TZNAME:CET
END:STANDARD
END:VTIMEZONE
END:VCALENDAR