BEGIN:VCALENDAR
VERSION:2.0
PRODID:-//wp-events-plugin.com//7.2.3.1//EN
TZID:Europe/Amsterdam
X-WR-TIMEZONE:Europe/Amsterdam
BEGIN:VEVENT
UID:404@8rhk.nl
DTSTART;TZID=Europe/Amsterdam:20231116T100000
DTEND;TZID=Europe/Amsterdam:20231116T140000
DTSTAMP:20231108T141641Z
URL:https://8rhk.nl/evenement/grenzhoppers-netzwerktreffen/
SUMMARY:Grenzhoppers Net(z)werktreffen
DESCRIPTION:\nhttps://grenzhoppers.eu/\n
ATTACH;FMTTYPE=image/jpeg:https://8rhk.nl/wp-content/uploads/2023/11/Anouk
 -Ellen-Susan-e1699437159530.png
END:VEVENT
BEGIN:VTIMEZONE
TZID:Europe/Amsterdam
X-LIC-LOCATION:Europe/Amsterdam
BEGIN:STANDARD
DTSTART:20231029T020000
TZOFFSETFROM:+0200
TZOFFSETTO:+0100
TZNAME:CET
END:STANDARD
END:VTIMEZONE
END:VCALENDAR