BEGIN:VCALENDAR
VERSION:2.0
PRODID:-//wp-events-plugin.com//7.2.3.1//EN
TZID:Europe/Amsterdam
X-WR-TIMEZONE:Europe/Amsterdam
BEGIN:VEVENT
UID:256@8rhk.nl
DTSTART;TZID=Europe/Amsterdam:20230405T173000
DTEND;TZID=Europe/Amsterdam:20230405T210000
DTSTAMP:20230323T081652Z
URL:https://8rhk.nl/evenement/hr-en-human-capital-in-het-mkb/
SUMMARY:‘HR en Human Capital in het mkb'
DESCRIPTION:\n\n
END:VEVENT
BEGIN:VTIMEZONE
TZID:Europe/Amsterdam
X-LIC-LOCATION:Europe/Amsterdam
BEGIN:DAYLIGHT
DTSTART:20230326T030000
TZOFFSETFROM:+0100
TZOFFSETTO:+0200
TZNAME:CEST
END:DAYLIGHT
END:VTIMEZONE
END:VCALENDAR