BEGIN:VCALENDAR
VERSION:2.0
PRODID:-//wp-events-plugin.com//7.2.3.1//EN
TZID:Europe/Amsterdam
X-WR-TIMEZONE:Europe/Amsterdam
BEGIN:VEVENT
UID:703@8rhk.nl
DTSTART;TZID=Europe/Amsterdam:20260128T093000
DTEND;TZID=Europe/Amsterdam:20260128T120000
DTSTAMP:20260106T093728Z
URL:https://8rhk.nl/evenement/jaarcongres-achterhoek-monitor-2025-2026/
SUMMARY:Jaarcongres Achterhoek Monitor 2025-2026
DESCRIPTION:\n\n
ATTACH;FMTTYPE=image/jpeg:https://8rhk.nl/wp-content/uploads/2025/11/Monit
 or.png
END:VEVENT
BEGIN:VTIMEZONE
TZID:Europe/Amsterdam
X-LIC-LOCATION:Europe/Amsterdam
BEGIN:STANDARD
DTSTART:20251026T020000
TZOFFSETFROM:+0200
TZOFFSETTO:+0100
TZNAME:CET
END:STANDARD
END:VTIMEZONE
END:VCALENDAR