BEGIN:VCALENDAR
VERSION:2.0
PRODID:-//wp-events-plugin.com//7.2.3.1//EN
TZID:Europe/Amsterdam
X-WR-TIMEZONE:Europe/Amsterdam
BEGIN:VEVENT
UID:290@8rhk.nl
DTSTART;TZID=Europe/Amsterdam:20230927T140000
DTEND;TZID=Europe/Amsterdam:20230927T183000
DTSTAMP:20230822T105008Z
URL:https://8rhk.nl/evenement/jubileumcongres-elke-regio-telt-elke-partner
 -telt/
SUMMARY:Jubileumcongres Elke Regio Telt\, Elke Partner Telt
DESCRIPTION:\n\n
ATTACH;FMTTYPE=image/jpeg:https://8rhk.nl/wp-content/uploads/2023/06/5_jub
 ileumlogo_.jpg
END:VEVENT
BEGIN:VTIMEZONE
TZID:Europe/Amsterdam
X-LIC-LOCATION:Europe/Amsterdam
BEGIN:DAYLIGHT
DTSTART:20230326T030000
TZOFFSETFROM:+0100
TZOFFSETTO:+0200
TZNAME:CEST
END:DAYLIGHT
END:VTIMEZONE
END:VCALENDAR