BEGIN:VCALENDAR
VERSION:2.0
PRODID:-//wp-events-plugin.com//7.2.3.1//EN
TZID:Europe/Amsterdam
X-WR-TIMEZONE:Europe/Amsterdam
BEGIN:VEVENT
UID:455@8rhk.nl
DTSTART;TZID=Europe/Amsterdam:20240918T140000
DTEND;TZID=Europe/Amsterdam:20240918T170000
DTSTAMP:20240821T121925Z
URL:https://8rhk.nl/evenement/kennis-vastleggen-en-borgen-in-mkb-bedrijven
 /
SUMMARY:Kennis vastleggen en borgen in MKB bedrijven
DESCRIPTION: 
ATTACH;FMTTYPE=image/jpeg:https://8rhk.nl/wp-content/uploads/2024/07/event
 .png
CATEGORIES:Onderwijs &amp; Arbeidsmarkt,Smart werken &amp; Innovatie
END:VEVENT
BEGIN:VTIMEZONE
TZID:Europe/Amsterdam
X-LIC-LOCATION:Europe/Amsterdam
BEGIN:DAYLIGHT
DTSTART:20240331T030000
TZOFFSETFROM:+0100
TZOFFSETTO:+0200
TZNAME:CEST
END:DAYLIGHT
END:VTIMEZONE
END:VCALENDAR