BEGIN:VCALENDAR
VERSION:2.0
PRODID:-//wp-events-plugin.com//7.2.3.1//EN
TZID:Europe/Amsterdam
X-WR-TIMEZONE:Europe/Amsterdam
BEGIN:VEVENT
UID:449@8rhk.nl
DTSTART;TZID=Europe/Amsterdam:20240701T190000
DTEND;TZID=Europe/Amsterdam:20240701T220000
DTSTAMP:20240620T124019Z
URL:https://8rhk.nl/evenement/kick-off-regioplan-de-gezondste-regio-achter
 hoek/
SUMMARY:Kick off Regioplan 'De Gezondste Regio Achterhoek'
DESCRIPTION:\n\n
END:VEVENT
BEGIN:VTIMEZONE
TZID:Europe/Amsterdam
X-LIC-LOCATION:Europe/Amsterdam
BEGIN:DAYLIGHT
DTSTART:20240331T030000
TZOFFSETFROM:+0100
TZOFFSETTO:+0200
TZNAME:CEST
END:DAYLIGHT
END:VTIMEZONE
END:VCALENDAR