BEGIN:VCALENDAR
VERSION:2.0
PRODID:-//wp-events-plugin.com//7.2.3.1//EN
TZID:Europe/Amsterdam
X-WR-TIMEZONE:Europe/Amsterdam
BEGIN:VEVENT
UID:432@8rhk.nl
DTSTART;TZID=Europe/Amsterdam:20240411T090000
DTEND;TZID=Europe/Amsterdam:20240411T130000
DTSTAMP:20240306T113227Z
URL:https://8rhk.nl/evenement/kickstartochtend-bouwen-in-de-achterhoek-van
 -dromen-naar-doen/
SUMMARY:Kickstartochtend: Bouwen in de Achterhoek van dromen naar doen
DESCRIPTION:\n\n
ATTACH;FMTTYPE=image/jpeg:https://8rhk.nl/wp-content/uploads/2024/03/bouwd
 ag.png
END:VEVENT
BEGIN:VTIMEZONE
TZID:Europe/Amsterdam
X-LIC-LOCATION:Europe/Amsterdam
BEGIN:DAYLIGHT
DTSTART:20240331T030000
TZOFFSETFROM:+0100
TZOFFSETTO:+0200
TZNAME:CEST
END:DAYLIGHT
END:VTIMEZONE
END:VCALENDAR