BEGIN:VCALENDAR
VERSION:2.0
PRODID:-//wp-events-plugin.com//7.2.3.1//EN
TZID:Europe/Amsterdam
X-WR-TIMEZONE:Europe/Amsterdam
BEGIN:VEVENT
UID:299@8rhk.nl
DTSTART;TZID=Europe/Amsterdam:20231031T150000
DTEND;TZID=Europe/Amsterdam:20231031T173000
DTSTAMP:20231002T084056Z
URL:https://8rhk.nl/evenement/ledenbijeenkomst-smarthub-achterhoek/
SUMMARY:Ledenbijeenkomst SmartHub Achterhoek
DESCRIPTION: 
ATTACH;FMTTYPE=image/jpeg:https://8rhk.nl/wp-content/uploads/2023/10/logo_
 SmartHub_liggend_FC.png
END:VEVENT
BEGIN:VTIMEZONE
TZID:Europe/Amsterdam
X-LIC-LOCATION:Europe/Amsterdam
BEGIN:STANDARD
DTSTART:20231029T020000
TZOFFSETFROM:+0200
TZOFFSETTO:+0100
TZNAME:CET
END:STANDARD
END:VTIMEZONE
END:VCALENDAR