BEGIN:VCALENDAR
VERSION:2.0
PRODID:-//wp-events-plugin.com//7.2.3.1//EN
TZID:Europe/Amsterdam
X-WR-TIMEZONE:Europe/Amsterdam
BEGIN:VEVENT
UID:594@8rhk.nl
DTSTART;TZID=Europe/Amsterdam:20250326T160000
DTEND;TZID=Europe/Amsterdam:20250326T180000
DTSTAMP:20250218T143529Z
URL:https://8rhk.nl/evenement/masterclass-iedereen-aan-boord/
SUMMARY:Masterclass iedereen aan boord
DESCRIPTION:
ATTACH;FMTTYPE=image/jpeg:https://8rhk.nl/wp-content/uploads/2025/02/Ieder
 een-an-boord.jpg
END:VEVENT
BEGIN:VTIMEZONE
TZID:Europe/Amsterdam
X-LIC-LOCATION:Europe/Amsterdam
BEGIN:STANDARD
DTSTART:20241027T020000
TZOFFSETFROM:+0200
TZOFFSETTO:+0100
TZNAME:CET
END:STANDARD
END:VTIMEZONE
END:VCALENDAR