BEGIN:VCALENDAR
VERSION:2.0
PRODID:-//wp-events-plugin.com//7.2.3.1//EN
TZID:Europe/Amsterdam
X-WR-TIMEZONE:Europe/Amsterdam
BEGIN:VEVENT
UID:426@8rhk.nl
DTSTART;TZID=Europe/Amsterdam:20240228T160000
DTEND;TZID=Europe/Amsterdam:20240228T180000
DTSTAMP:20240228T132309Z
URL:https://8rhk.nl/evenement/masterclass-winstdelen-in-de-steck/
SUMMARY:Masterclass winstdelen in De Steck
DESCRIPTION:\n\n
ATTACH;FMTTYPE=image/jpeg:https://8rhk.nl/wp-content/uploads/2022/05/de-st
 eck-2.jpg
END:VEVENT
BEGIN:VTIMEZONE
TZID:Europe/Amsterdam
X-LIC-LOCATION:Europe/Amsterdam
BEGIN:STANDARD
DTSTART:20231029T020000
TZOFFSETFROM:+0200
TZOFFSETTO:+0100
TZNAME:CET
END:STANDARD
END:VTIMEZONE
END:VCALENDAR