BEGIN:VCALENDAR
VERSION:2.0
PRODID:-//wp-events-plugin.com//7.2.3.1//EN
TZID:Europe/Amsterdam
X-WR-TIMEZONE:Europe/Amsterdam
BEGIN:VEVENT
UID:284@8rhk.nl
DTSTART;TZID=Europe/Amsterdam:20231012T170000
DTEND;TZID=Europe/Amsterdam:20231012T190000
DTSTAMP:20230622T125831Z
URL:https://8rhk.nl/evenement/meet-match-markt-doetinchemse-uitdaging/
SUMMARY:Meet &amp\; Match Markt Doetinchemse Uitdaging
DESCRIPTION:
END:VEVENT
BEGIN:VTIMEZONE
TZID:Europe/Amsterdam
X-LIC-LOCATION:Europe/Amsterdam
BEGIN:DAYLIGHT
DTSTART:20230326T030000
TZOFFSETFROM:+0100
TZOFFSETTO:+0200
TZNAME:CEST
END:DAYLIGHT
END:VTIMEZONE
END:VCALENDAR