BEGIN:VCALENDAR
VERSION:2.0
PRODID:-//wp-events-plugin.com//7.2.3.1//EN
TZID:Europe/Amsterdam
X-WR-TIMEZONE:Europe/Amsterdam
BEGIN:VEVENT
UID:589@8rhk.nl
DTSTART;TZID=Europe/Amsterdam:20250214T103000
DTEND;TZID=Europe/Amsterdam:20250214T150000
DTSTAMP:20250203T085756Z
URL:https://8rhk.nl/evenement/moet-je-nederlands-kunnen-spreken-om-te-kunn
 en-werken/
SUMMARY:Moet je Nederlands kunnen spreken om te kunnen werken?
DESCRIPTION: 
ATTACH;FMTTYPE=image/jpeg:https://8rhk.nl/wp-content/uploads/2025/02/Scher
 m­afbeelding-2025-02-01-om-21.32.15.png
END:VEVENT
BEGIN:VTIMEZONE
TZID:Europe/Amsterdam
X-LIC-LOCATION:Europe/Amsterdam
BEGIN:STANDARD
DTSTART:20241027T020000
TZOFFSETFROM:+0200
TZOFFSETTO:+0100
TZNAME:CET
END:STANDARD
END:VTIMEZONE
END:VCALENDAR