BEGIN:VCALENDAR
VERSION:2.0
PRODID:-//wp-events-plugin.com//7.2.3.1//EN
TZID:Europe/Amsterdam
X-WR-TIMEZONE:Europe/Amsterdam
BEGIN:VEVENT
UID:448@8rhk.nl
DTSTART;TZID=Europe/Amsterdam:20240704T123000
DTEND;TZID=Europe/Amsterdam:20240704T133000
DTSTAMP:20240618T073809Z
URL:https://8rhk.nl/evenement/ondertekening-convenant-huisvesting-arbeidsm
 igranten/
SUMMARY:Ondertekening Convenant Huisvesting Arbeidsmigranten
DESCRIPTION:\n\n
ATTACH;FMTTYPE=image/jpeg:https://8rhk.nl/wp-content/uploads/2024/06/fides
 -arbeidsmigranten-e1718188104124.webp
END:VEVENT
BEGIN:VTIMEZONE
TZID:Europe/Amsterdam
X-LIC-LOCATION:Europe/Amsterdam
BEGIN:DAYLIGHT
DTSTART:20240331T030000
TZOFFSETFROM:+0100
TZOFFSETTO:+0200
TZNAME:CEST
END:DAYLIGHT
END:VTIMEZONE
END:VCALENDAR