BEGIN:VCALENDAR
VERSION:2.0
PRODID:-//wp-events-plugin.com//7.2.3.1//EN
TZID:Europe/Amsterdam
X-WR-TIMEZONE:Europe/Amsterdam
BEGIN:VEVENT
UID:581@8rhk.nl
DTSTART;TZID=Europe/Amsterdam:20251112T080000
DTEND;TZID=Europe/Amsterdam:20251112T100000
DTSTAMP:20241217T082545Z
URL:https://8rhk.nl/evenement/ontbijtsessie-smarthub-incubator-industry-2/
SUMMARY:Ontbijtsessie SmartHub Incubator Industry
DESCRIPTION: 
ATTACH;FMTTYPE=image/jpeg:https://8rhk.nl/wp-content/uploads/2024/12/ontbi
 jtsessie2.jpg
END:VEVENT
BEGIN:VTIMEZONE
TZID:Europe/Amsterdam
X-LIC-LOCATION:Europe/Amsterdam
BEGIN:STANDARD
DTSTART:20251026T020000
TZOFFSETFROM:+0200
TZOFFSETTO:+0100
TZNAME:CET
END:STANDARD
END:VTIMEZONE
END:VCALENDAR