BEGIN:VCALENDAR
VERSION:2.0
PRODID:-//wp-events-plugin.com//7.2.3.1//EN
TZID:Europe/Amsterdam
X-WR-TIMEZONE:Europe/Amsterdam
BEGIN:VEVENT
UID:288@8rhk.nl
DTSTART;TZID=Europe/Amsterdam:20231125T130000
DTEND;TZID=Europe/Amsterdam:20231125T160000
DTSTAMP:20230801T074814Z
URL:https://8rhk.nl/evenement/plattelandsparlement-gelderland/
SUMMARY:PlattelandsParlement Gelderland
DESCRIPTION:\n\n
ATTACH;FMTTYPE=image/jpeg:https://8rhk.nl/wp-content/uploads/2023/08/8e-Pl
 attelands-parlement-Gelderland-2023.png
END:VEVENT
BEGIN:VTIMEZONE
TZID:Europe/Amsterdam
X-LIC-LOCATION:Europe/Amsterdam
BEGIN:STANDARD
DTSTART:20231029T020000
TZOFFSETFROM:+0200
TZOFFSETTO:+0100
TZNAME:CET
END:STANDARD
END:VTIMEZONE
END:VCALENDAR