BEGIN:VCALENDAR
VERSION:2.0
PRODID:-//wp-events-plugin.com//7.2.3.1//EN
TZID:Europe/Amsterdam
X-WR-TIMEZONE:Europe/Amsterdam
BEGIN:VEVENT
UID:716@8rhk.nl
DTSTART;TZID=Europe/Amsterdam:20260303T000000
DTEND;TZID=Europe/Amsterdam:20260303T000000
DTSTAMP:20260130T140941Z
URL:https://8rhk.nl/evenement/samen-toekomstbestendig-bouwen/
SUMMARY:Samen Toekomstbestendig Bouwen
DESCRIPTION:\n\n
ATTACH;FMTTYPE=image/jpeg:https://8rhk.nl/wp-content/uploads/2025/09/bioba
 sed-huizen.webp
END:VEVENT
BEGIN:VTIMEZONE
TZID:Europe/Amsterdam
X-LIC-LOCATION:Europe/Amsterdam
BEGIN:STANDARD
DTSTART:20251026T020000
TZOFFSETFROM:+0200
TZOFFSETTO:+0100
TZNAME:CET
END:STANDARD
END:VTIMEZONE
END:VCALENDAR