BEGIN:VCALENDAR
VERSION:2.0
PRODID:-//wp-events-plugin.com//7.2.3.1//EN
TZID:Europe/Amsterdam
X-WR-TIMEZONE:Europe/Amsterdam
BEGIN:VEVENT
UID:470@8rhk.nl
DTSTART;TZID=Europe/Amsterdam:20241113T160000
DTEND;TZID=Europe/Amsterdam:20241113T180000
DTSTAMP:20241105T125503Z
URL:https://8rhk.nl/evenement/save-the-date-13-november-leader-bijeenkomst
 -voor-alle-achterhoekers/
SUMMARY:LEADER-bijeenkomst voor alle Achterhoekers
DESCRIPTION:\nLEADER Achterhoek organiseert op 13 november 2024 van 16.00 t
 ot 18.00 uur in Barchem (gemeente Lochem) een informatieve bijeenkomst. Oo
 k worden ideeën van inwoners verzameld om verder uit te werken.Rudi Thoma
 s\, LAG-lid namens de gemeente Lochem\, zal daar aanwezig zijn om met je t
 e sparren over je plannen. "Ik roep graag pioniers op die met experimenten
  komen voor werkgelegenheid\, zorg en wonen op het platteland. Meld je! Da
 ar waar de motivatie er is\, maar de middelen ontbreken\, bieden wij onder
 steuning of helpen we je verder door je bijvoorbeeld te koppelen aan ander
 e initiatiefnemers. Ik hoop dat we in de komende jaren een aantal goede pr
 ojecten kunnen realiseren die niet alleen Lochem\, maar de hele Achterhoek
  ten goede komen."Meld je aan voor de bijeenkomst op 13 november!Ben je be
 nieuwd wat LEADER Achterhoek voor jou of voor je project kan betekenen? Re
 serveer dan alvast 13 november van 16.00 tot 18.00 uur in je agenda. Ieder
 een die een idee heeft voor een project in de Achterhoek is van harte welk
 om! Schrijf je in via deze link https://docs.google.com/forms/d/1IBio7mWPa
 VLXYGx3Im9Ax_69ThIv_ODcCIVmFNeIn-k/edit of stuur een mail naar saskiawiege
 rs@leaderachterhoek.nl\, vermeld je naam en eventueel de organisatie die j
 e vertegenwoordigt.Locatie bijeenkomst:Landgoed MorgensternWitzand 4\, 724
 4 NC\, BarchemOver LEADER AchterhoekLEADER ondersteunt lokale initiatieven
  door advies\, begeleiding en een financiële bijdrage. LEADER Achterhoek 
 vormt tevens een netwerk voor een leefbaar platteland. Initiatiefnemers me
 t een mooi idee voor het dorp of de regio kunnen bij ons terecht. We kijke
 n of het project past binnen de speerpunten die gelden voor de betreffende
  periode. Past het project? Dan begeleidt LEADER Achterhoek coördinator S
 askia Wiegers je met het complete project van plan naar aanvraag. Aan LEAD
 ER Achterhoek doen mee de gemeenten Aalten\, Berkelland\, Bronckhorst\, Do
 etinchem\, Lochem\, Oost Gelre\, Oude IJsselstreek en Winterswijk. De nieu
 we subsidieperiode van LEADER Achterhoek is op 1 juli 2024 van start gegaa
 n\, de regeling is doorlopend opengesteld. In 2027 moeten alle projecten a
 fgerond zijn.Meer informatie over LEADER AchterhoekKijk voor meer informat
 ie over de mogelijkheden van LEADER Achterhoek en het indienen van ideeën
  op www.leaderachterhoek.nl. De speerpunten van LEADER Achterhoek vind je 
 in de Lokale Ontwikkelingsstrategie (LOS)\, die je als pdf hier kunt downl
 oaden. https://www.leaderachterhoek.nl/wp-content/uploads/2024/07/Achterho
 ek-Lokale-Ontwikkelingsstrategie-2023-2027-juni-2024.pdfWil je op de hoogt
 e gehouden worden van LEADER Achterhoek? Schrijf je dan op de website http
 s://www.leaderachterhoek.nl/ in voor de nieuwsbrief.Neem voor meer informa
 tie over LEADER Achterhoek contact op met:Rudi ThomasInwonerlid Lokale Adv
 iesgroep namens LochemMail: ruurdthomas@gmail.comSaskia WiegersCoördinato
 r LEADER AchterhoekMail: saskiawiegers@leaderachterhoek.nl\n
ATTACH;FMTTYPE=image/jpeg:https://8rhk.nl/wp-content/uploads/2024/09/LEADE
 R.jpg
END:VEVENT
BEGIN:VTIMEZONE
TZID:Europe/Amsterdam
X-LIC-LOCATION:Europe/Amsterdam
BEGIN:STANDARD
DTSTART:20241027T020000
TZOFFSETFROM:+0200
TZOFFSETTO:+0100
TZNAME:CET
END:STANDARD
END:VTIMEZONE
END:VCALENDAR