BEGIN:VCALENDAR
VERSION:2.0
PRODID:-//wp-events-plugin.com//7.2.3.1//EN
TZID:Europe/Amsterdam
X-WR-TIMEZONE:Europe/Amsterdam
BEGIN:VEVENT
UID:422@8rhk.nl
DTSTART;TZID=Europe/Amsterdam:20240417T130000
DTEND;TZID=Europe/Amsterdam:20240417T170000
DTSTAMP:20240214T095613Z
URL:https://8rhk.nl/evenement/save-the-date-grensoverschrijdende-netwerkbi
 jeenkomst-leren-van-elkaar-in-het-basisonderwijs/
SUMMARY:Grensoverschrijdende Netwerkbijeenkomst | Leren van elkaar in het b
 asisonderwijs
DESCRIPTION:\n\n
ATTACH;FMTTYPE=image/jpeg:https://8rhk.nl/wp-content/uploads/2024/02/Grens
 overschr.png
END:VEVENT
BEGIN:VTIMEZONE
TZID:Europe/Amsterdam
X-LIC-LOCATION:Europe/Amsterdam
BEGIN:DAYLIGHT
DTSTART:20240331T030000
TZOFFSETFROM:+0100
TZOFFSETTO:+0200
TZNAME:CEST
END:DAYLIGHT
END:VTIMEZONE
END:VCALENDAR