BEGIN:VCALENDAR
VERSION:2.0
PRODID:-//wp-events-plugin.com//7.2.3.1//EN
TZID:Europe/Amsterdam
X-WR-TIMEZONE:Europe/Amsterdam
BEGIN:VEVENT
UID:575@8rhk.nl
DTSTART;TZID=Europe/Amsterdam:20250213T190000
DTEND;TZID=Europe/Amsterdam:20250213T210000
DTSTAMP:20250319T103031Z
URL:https://8rhk.nl/evenement/shii-pitchevent-voor-starters-en-ondernemers
 -13-februari/
SUMMARY:SHII pitchevent voor starters en ondernemers 13 februari
DESCRIPTION: 
ATTACH;FMTTYPE=image/jpeg:https://8rhk.nl/wp-content/uploads/2024/12/OIP.j
 pg
END:VEVENT
BEGIN:VTIMEZONE
TZID:Europe/Amsterdam
X-LIC-LOCATION:Europe/Amsterdam
BEGIN:STANDARD
DTSTART:20241027T020000
TZOFFSETFROM:+0200
TZOFFSETTO:+0100
TZNAME:CET
END:STANDARD
END:VTIMEZONE
END:VCALENDAR