BEGIN:VCALENDAR
VERSION:2.0
PRODID:-//wp-events-plugin.com//7.2.3.1//EN
TZID:Europe/Amsterdam
X-WR-TIMEZONE:Europe/Amsterdam
BEGIN:VEVENT
UID:720@8rhk.nl
DTSTART;TZID=Europe/Amsterdam:20260604T141500
DTEND;TZID=Europe/Amsterdam:20260604T163000
DTSTAMP:20260423T113539Z
URL:https://8rhk.nl/evenement/smarthub-achterhoek-naar-topniveau/
SUMMARY:SmartHub Achterhoek naar topniveau
DESCRIPTION: 
ATTACH;FMTTYPE=image/jpeg:https://8rhk.nl/wp-content/uploads/2026/04/Insta
 grambericht-bijeenkomst-4-juni.png
END:VEVENT
BEGIN:VTIMEZONE
TZID:Europe/Amsterdam
X-LIC-LOCATION:Europe/Amsterdam
BEGIN:DAYLIGHT
DTSTART:20260329T030000
TZOFFSETFROM:+0100
TZOFFSETTO:+0200
TZNAME:CEST
END:DAYLIGHT
END:VTIMEZONE
END:VCALENDAR