BEGIN:VCALENDAR
VERSION:2.0
PRODID:-//wp-events-plugin.com//7.2.3.1//EN
TZID:Europe/Amsterdam
X-WR-TIMEZONE:Europe/Amsterdam
BEGIN:VEVENT
UID:403@8rhk.nl
DTSTART;TZID=Europe/Amsterdam:20231220T133000
DTEND;TZID=Europe/Amsterdam:20231220T163000
DTSTAMP:20231107T070913Z
URL:https://8rhk.nl/evenement/symposium-burgerberaad-oost-nederland/
SUMMARY:Symposium Burgerberaad Oost-Nederland
DESCRIPTION:\n\n
ATTACH;FMTTYPE=image/jpeg:https://8rhk.nl/wp-content/uploads/2023/11/Sympo
 sium-Burgerberaad-Oost-Nederland.png
END:VEVENT
BEGIN:VTIMEZONE
TZID:Europe/Amsterdam
X-LIC-LOCATION:Europe/Amsterdam
BEGIN:STANDARD
DTSTART:20231029T020000
TZOFFSETFROM:+0200
TZOFFSETTO:+0100
TZNAME:CET
END:STANDARD
END:VTIMEZONE
END:VCALENDAR