BEGIN:VCALENDAR
VERSION:2.0
PRODID:-//wp-events-plugin.com//7.2.3.1//EN
TZID:Europe/Amsterdam
X-WR-TIMEZONE:Europe/Amsterdam
BEGIN:VEVENT
UID:376@8rhk.nl
DTSTART;TZID=Europe/Amsterdam:20240926T100000
DTEND;TZID=Europe/Amsterdam:20240926T130000
DTSTAMP:20240305T152045Z
URL:https://8rhk.nl/evenement/thematafel-mobiliteit-bereikbaarheid-14-copy
 -2/
SUMMARY:Thematafel Mobiliteit & Bereikbaarheid
DESCRIPTION:\n\n
CATEGORIES:Mobiliteit &amp; Bereikbaarheid
END:VEVENT
BEGIN:VTIMEZONE
TZID:Europe/Amsterdam
X-LIC-LOCATION:Europe/Amsterdam
BEGIN:DAYLIGHT
DTSTART:20240331T030000
TZOFFSETFROM:+0100
TZOFFSETTO:+0200
TZNAME:CEST
END:DAYLIGHT
END:VTIMEZONE
END:VCALENDAR