BEGIN:VCALENDAR
VERSION:2.0
PRODID:-//wp-events-plugin.com//7.2.3.1//EN
TZID:Europe/Amsterdam
X-WR-TIMEZONE:Europe/Amsterdam
BEGIN:VEVENT
UID:381@8rhk.nl
DTSTART;TZID=Europe/Amsterdam:20241106T100000
DTEND;TZID=Europe/Amsterdam:20241106T120000
DTSTAMP:20240305T151743Z
URL:https://8rhk.nl/evenement/thematafel-mobiliteit-bereikbaarheid-16-copy
 -2/
SUMMARY:Thematafel Mobiliteit & Bereikbaarheid
DESCRIPTION:\n\n
CATEGORIES:Circulaire Economie &amp; Energietransitie,Mobiliteit &amp;
 Bereikbaarheid
END:VEVENT
BEGIN:VTIMEZONE
TZID:Europe/Amsterdam
X-LIC-LOCATION:Europe/Amsterdam
BEGIN:STANDARD
DTSTART:20241027T020000
TZOFFSETFROM:+0200
TZOFFSETTO:+0100
TZNAME:CET
END:STANDARD
END:VTIMEZONE
END:VCALENDAR