BEGIN:VCALENDAR
VERSION:2.0
PRODID:-//wp-events-plugin.com//7.2.3.1//EN
TZID:Europe/Amsterdam
X-WR-TIMEZONE:Europe/Amsterdam
BEGIN:VEVENT
UID:685@8rhk.nl
DTSTART;TZID=Europe/Amsterdam:20261105T100000
DTEND;TZID=Europe/Amsterdam:20261105T130000
DTSTAMP:20250812T143536Z
URL:https://8rhk.nl/evenement/thematafel-wonen-vastgoed-2026-11/
SUMMARY:Thematafel Wonen &amp\; Vastgoed
DESCRIPTION:\n\n
CATEGORIES:Wonen &amp; Vastgoed
END:VEVENT
BEGIN:VTIMEZONE
TZID:Europe/Amsterdam
X-LIC-LOCATION:Europe/Amsterdam
BEGIN:STANDARD
DTSTART:20261025T020000
TZOFFSETFROM:+0200
TZOFFSETTO:+0100
TZNAME:CET
END:STANDARD
END:VTIMEZONE
END:VCALENDAR