BEGIN:VCALENDAR
VERSION:2.0
PRODID:-//wp-events-plugin.com//7.2.3.1//EN
TZID:Europe/Amsterdam
X-WR-TIMEZONE:Europe/Amsterdam
BEGIN:VEVENT
UID:289@8rhk.nl
DTSTART;TZID=Europe/Amsterdam:20231213T143000
DTEND;TZID=Europe/Amsterdam:20231213T170000
DTSTAMP:20231031T152223Z
URL:https://8rhk.nl/evenement/vierde-congres-achterhoek-monitor/
SUMMARY:Vierde congres Achterhoek Monitor - De Achterhoek Telt!
DESCRIPTION:\n\n
END:VEVENT
BEGIN:VTIMEZONE
TZID:Europe/Amsterdam
X-LIC-LOCATION:Europe/Amsterdam
BEGIN:STANDARD
DTSTART:20231029T020000
TZOFFSETFROM:+0200
TZOFFSETTO:+0100
TZNAME:CET
END:STANDARD
END:VTIMEZONE
END:VCALENDAR