BEGIN:VCALENDAR
VERSION:2.0
PRODID:-//wp-events-plugin.com//7.2.3.1//EN
TZID:Europe/Amsterdam
X-WR-TIMEZONE:Europe/Amsterdam
BEGIN:VEVENT
UID:425@8rhk.nl
DTSTART;TZID=Europe/Amsterdam:20240403T090000
DTEND;TZID=Europe/Amsterdam:20240419T140000
DTSTAMP:20240327T132602Z
URL:https://8rhk.nl/evenement/week-van-de-techniek-3/
SUMMARY:Week van de Techniek 3 t/m 19 april 2024
DESCRIPTION: 
ATTACH;FMTTYPE=image/jpeg:https://8rhk.nl/wp-content/uploads/2024/02/OA-Te
 chniekweek.jpg
END:VEVENT
BEGIN:VTIMEZONE
TZID:Europe/Amsterdam
X-LIC-LOCATION:Europe/Amsterdam
BEGIN:DAYLIGHT
DTSTART:20240331T030000
TZOFFSETFROM:+0100
TZOFFSETTO:+0200
TZNAME:CEST
END:DAYLIGHT
END:VTIMEZONE
END:VCALENDAR