BEGIN:VCALENDAR
VERSION:2.0
PRODID:-//wp-events-plugin.com//7.2.3.1//EN
TZID:Europe/Amsterdam
X-WR-TIMEZONE:Europe/Amsterdam
BEGIN:VEVENT
UID:452@8rhk.nl
DTSTART;TZID=Europe/Amsterdam;VALUE=DATE:20250331
DTEND;TZID=Europe/Amsterdam;VALUE=DATE:20250418
DTSTAMP:20240821T122304Z
URL:https://8rhk.nl/evenement/week-van-de-techniek-4/
SUMMARY:Week van de Techniek
DESCRIPTION:\n\n
ATTACH;FMTTYPE=image/jpeg:https://8rhk.nl/wp-content/uploads/2022/05/photo
 n-124-scaled-1.jpg
CATEGORIES:Onderwijs &amp; Arbeidsmarkt
END:VEVENT
BEGIN:VTIMEZONE
TZID:Europe/Amsterdam
X-LIC-LOCATION:Europe/Amsterdam
BEGIN:DAYLIGHT
DTSTART:20250330T030000
TZOFFSETFROM:+0100
TZOFFSETTO:+0200
TZNAME:CEST
END:DAYLIGHT
END:VTIMEZONE
END:VCALENDAR