BEGIN:VCALENDAR
VERSION:2.0
PRODID:-//wp-events-plugin.com//7.2.3.1//EN
TZID:Europe/Amsterdam
X-WR-TIMEZONE:Europe/Amsterdam
BEGIN:VEVENT
UID:401@8rhk.nl
DTSTART;TZID=Europe/Amsterdam:20231103T000000
DTEND;TZID=Europe/Amsterdam:20231103T000000
DTSTAMP:20231020T150827Z
URL:https://8rhk.nl/evenement/werkbezoek-staatscommissie-demografische-ont
 wikkelingen-copy-2/
SUMMARY:Werkbezoek DG mobiliteit van ministerie Infrastructuur & Waterstaat
  over oa Publieke Mobiliteit
DESCRIPTION:\n\n
END:VEVENT
BEGIN:VTIMEZONE
TZID:Europe/Amsterdam
X-LIC-LOCATION:Europe/Amsterdam
BEGIN:STANDARD
DTSTART:20231029T020000
TZOFFSETFROM:+0200
TZOFFSETTO:+0100
TZNAME:CET
END:STANDARD
END:VTIMEZONE
END:VCALENDAR