BEGIN:VCALENDAR
VERSION:2.0
PRODID:-//wp-events-plugin.com//7.2.3.1//EN
TZID:Europe/Amsterdam
X-WR-TIMEZONE:Europe/Amsterdam
BEGIN:VEVENT
UID:400@8rhk.nl
DTSTART;TZID=Europe/Amsterdam:20231102T000000
DTEND;TZID=Europe/Amsterdam:20231102T000000
DTSTAMP:20231020T150614Z
URL:https://8rhk.nl/evenement/werkbezoek-staatscommissie-demografische-ont
 wikkelingen-copy/
SUMMARY:Werkbezoek Tweede Kamerleden Judith Tielen en Erik Haverkort over z
 org
DESCRIPTION:\n\n
END:VEVENT
BEGIN:VTIMEZONE
TZID:Europe/Amsterdam
X-LIC-LOCATION:Europe/Amsterdam
BEGIN:STANDARD
DTSTART:20231029T020000
TZOFFSETFROM:+0200
TZOFFSETTO:+0100
TZNAME:CET
END:STANDARD
END:VTIMEZONE
END:VCALENDAR