BEGIN:VCALENDAR
VERSION:2.0
PRODID:-//wp-events-plugin.com//7.2.3.1//EN
TZID:Europe/Amsterdam
X-WR-TIMEZONE:Europe/Amsterdam
BEGIN:VEVENT
UID:275@8rhk.nl
DTSTART;TZID=Europe/Amsterdam:20230512T000000
DTEND;TZID=Europe/Amsterdam:20230512T000000
DTSTAMP:20230509T080941Z
URL:https://8rhk.nl/evenement/werkbezoek-tweede-kamerleden-peter-de-groot-
 en-erik-haverkort-over-wonen/
SUMMARY:Werkbezoek Tweede Kamerleden Peter de Groot en Erik Haverkort over 
 wonen
DESCRIPTION:\n\n
ATTACH;FMTTYPE=image/jpeg:https://8rhk.nl/wp-content/uploads/2023/04/agend
 aweb7-scaled.jpeg
END:VEVENT
BEGIN:VTIMEZONE
TZID:Europe/Amsterdam
X-LIC-LOCATION:Europe/Amsterdam
BEGIN:DAYLIGHT
DTSTART:20230326T030000
TZOFFSETFROM:+0100
TZOFFSETTO:+0200
TZNAME:CEST
END:DAYLIGHT
END:VTIMEZONE
END:VCALENDAR