BEGIN:VCALENDAR
VERSION:2.0
PRODID:-//wp-events-plugin.com//7.2.3.1//EN
TZID:Europe/Amsterdam
X-WR-TIMEZONE:Europe/Amsterdam
BEGIN:VEVENT
UID:435@8rhk.nl
DTSTART;TZID=Europe/Amsterdam:20240419T110000
DTEND;TZID=Europe/Amsterdam:20240419T140000
DTSTAMP:20240327T094235Z
URL:https://8rhk.nl/evenement/werkbezoek-tweede-kamerlid-hester-veltman-vv
 d-over-mobiliteit/
SUMMARY:Werkbezoek Tweede Kamerlid Hester Veltman (VVD) over mobiliteit
DESCRIPTION: 
CATEGORIES:Mobiliteit &amp; Bereikbaarheid
END:VEVENT
BEGIN:VTIMEZONE
TZID:Europe/Amsterdam
X-LIC-LOCATION:Europe/Amsterdam
BEGIN:DAYLIGHT
DTSTART:20240331T030000
TZOFFSETFROM:+0100
TZOFFSETTO:+0200
TZNAME:CEST
END:DAYLIGHT
END:VTIMEZONE
END:VCALENDAR