BEGIN:VCALENDAR
VERSION:2.0
PRODID:-//wp-events-plugin.com//7.2.3.1//EN
TZID:Europe/Amsterdam
X-WR-TIMEZONE:Europe/Amsterdam
BEGIN:VEVENT
UID:592@8rhk.nl
DTSTART;TZID=Europe/Amsterdam:20250220T090000
DTEND;TZID=Europe/Amsterdam:20250220T190000
DTSTAMP:20250212T152950Z
URL:https://8rhk.nl/evenement/werkconferentie-toekomst-van-droogteaanpak-i
 n-de-achterhoek-en-liemers/
SUMMARY:Werkconferentie: toekomst van droogteaanpak in de Achterhoek en Lie
 mers
DESCRIPTION:\n\n
ATTACH;FMTTYPE=image/jpeg:https://8rhk.nl/wp-content/uploads/2025/02/droog
 val-Rijnstrangen1.jpg
END:VEVENT
BEGIN:VTIMEZONE
TZID:Europe/Amsterdam
X-LIC-LOCATION:Europe/Amsterdam
BEGIN:STANDARD
DTSTART:20241027T020000
TZOFFSETFROM:+0200
TZOFFSETTO:+0100
TZNAME:CET
END:STANDARD
END:VTIMEZONE
END:VCALENDAR