BEGIN:VCALENDAR
VERSION:2.0
PRODID:-//wp-events-plugin.com//7.2.3.1//EN
TZID:Europe/Amsterdam
X-WR-TIMEZONE:Europe/Amsterdam
BEGIN:VEVENT
UID:593@8rhk.nl
DTSTART;TZID=Europe/Amsterdam:20250224T163000
DTEND;TZID=Europe/Amsterdam:20250224T173000
DTSTAMP:20250213T073545Z
URL:https://8rhk.nl/evenement/werkgeversbijeenkomst-24-februari-associate-
 degree-software-development/
SUMMARY:Werkgeversbijeenkomst 24 februari Associate Degree Software Develop
 ment
DESCRIPTION:\n\n
ATTACH;FMTTYPE=image/jpeg:https://8rhk.nl/wp-content/uploads/2023/09/Start
 -Ad-Logistiek-Grensland-College-sept2023.jpg
END:VEVENT
BEGIN:VTIMEZONE
TZID:Europe/Amsterdam
X-LIC-LOCATION:Europe/Amsterdam
BEGIN:STANDARD
DTSTART:20241027T020000
TZOFFSETFROM:+0200
TZOFFSETTO:+0100
TZNAME:CET
END:STANDARD
END:VTIMEZONE
END:VCALENDAR