BEGIN:VCALENDAR
VERSION:2.0
PRODID:-//wp-events-plugin.com//7.2.3.1//EN
TZID:Europe/Amsterdam
X-WR-TIMEZONE:Europe/Amsterdam
BEGIN:VEVENT
UID:472@8rhk.nl
DTSTART;TZID=Europe/Amsterdam:20241113T123000
DTEND;TZID=Europe/Amsterdam:20241113T160000
DTSTAMP:20241009T114244Z
URL:https://8rhk.nl/evenement/workshop-festival-popscool/
SUMMARY:Workshop-festival POPsCOOL
DESCRIPTION:\n\n
ATTACH;FMTTYPE=image/jpeg:https://8rhk.nl/wp-content/uploads/2022/05/foto-
 2-nederlandse-en-duitse-leerlingen-in-workshop-aan-de-slag-met-elkaars-buu
 rtaal-2.jpg
END:VEVENT
BEGIN:VTIMEZONE
TZID:Europe/Amsterdam
X-LIC-LOCATION:Europe/Amsterdam
BEGIN:STANDARD
DTSTART:20241027T020000
TZOFFSETFROM:+0200
TZOFFSETTO:+0100
TZNAME:CET
END:STANDARD
END:VTIMEZONE
END:VCALENDAR