BEGIN:VCALENDAR
VERSION:2.0
PRODID:-//wp-events-plugin.com//7.2.3.1//EN
TZID:Europe/Amsterdam
X-WR-TIMEZONE:Europe/Amsterdam
BEGIN:VEVENT
UID:129@8rhk.nl
DTSTART;TZID=Europe/Amsterdam:20220520T133000
DTEND;TZID=Europe/Amsterdam:20220520T180000
DTSTAMP:20220425T105624Z
URL:https://8rhk.nl/evenement/zakendoen-over-de-grens-grenzuberschreitende
 -geschafte/
SUMMARY:Zakendoen over de grens - Grenzüberschreitende Geschäfte
DESCRIPTION:\n\n
END:VEVENT
BEGIN:VTIMEZONE
TZID:Europe/Amsterdam
X-LIC-LOCATION:Europe/Amsterdam
BEGIN:DAYLIGHT
DTSTART:20220327T030000
TZOFFSETFROM:+0100
TZOFFSETTO:+0200
TZNAME:CEST
END:DAYLIGHT
END:VTIMEZONE
END:VCALENDAR